BEGIN:VCALENDAR
VERSION:2.0
PRODID:-//Daramalan College//NONSGML v1.0//EN
X-WR-CALNAME:Daramalan College
X-ORIGINAL-URL:http://www.daramalan.act.edu.au
X-WR-CALDESC:Posts from Daramalan College
CALSCALE:GREGORIAN
METHOD:PUBLISH
BEGIN:VEVENT
UID:http%3A%2F%2Fwww.daramalan.act.edu.au%2F%3Fp%3D16360
DTSTAMP:20190225T004234Z
DTSTART:20190225T003613Z
DTEND:20190225T013613Z
ORGANIZER:Daramalan College
SUMMARY:Big Winners at local theatre Awards
URL;VALUE=URI:http://www.daramalan.act.edu.au/big-winners-at-local-theatre
 -awards/
END:VEVENT
BEGIN:VEVENT
UID:http%3A%2F%2Fwww.daramalan.act.edu.au%2F%3Fp%3D18466
DTSTAMP:20200204T051411Z
DTSTART:20200204T051409Z
DTEND:20200204T061409Z
ORGANIZER:Daramalan College
SUMMARY:Staff member receives huge recognition
URL;VALUE=URI:http://www.daramalan.act.edu.au/staff-member-receives-huge-r
 ecognition/
END:VEVENT
BEGIN:VEVENT
UID:http%3A%2F%2Fwww.daramalan.act.edu.au%2F%3Fp%3D18374
DTSTAMP:20191217T032443Z
DTSTART:20191217T032214Z
DTEND:20191217T042214Z
ORGANIZER:Daramalan College
SUMMARY:Congratulations Harrison
URL;VALUE=URI:http://www.daramalan.act.edu.au/congratulations-harrison/
END:VEVENT
BEGIN:VEVENT
UID:http%3A%2F%2Fwww.daramalan.act.edu.au%2F%3Fp%3D17637
DTSTAMP:20191211T222235Z
DTSTART:20191211T042726Z
DTEND:20191211T052726Z
ORGANIZER:Daramalan College
SUMMARY:2019 College leaders awarded Order of Australia
URL;VALUE=URI:http://www.daramalan.act.edu.au/2019-college-leaders-awarded
 -order-of-australia/
END:VEVENT
BEGIN:VEVENT
UID:http%3A%2F%2Fwww.daramalan.act.edu.au%2F%3Fp%3D17629
DTSTAMP:20191210T011653Z
DTSTART:20191210T011651Z
DTEND:20191210T021651Z
ORGANIZER:Daramalan College
SUMMARY:Dara students take out the ACT Premier Debating Competition
URL;VALUE=URI:http://www.daramalan.act.edu.au/dara-students-take-out-the-a
 ct-premier-debating-competition/
END:VEVENT
BEGIN:VEVENT
UID:http%3A%2F%2Fwww.daramalan.act.edu.au%2F%3Fp%3D17619
DTSTAMP:20191209T225330Z
DTSTART:20191209T225327Z
DTEND:20191209T235327Z
ORGANIZER:Daramalan College
SUMMARY:Carols at the College
URL;VALUE=URI:http://www.daramalan.act.edu.au/carols-at-the-college/
END:VEVENT
BEGIN:VEVENT
UID:http%3A%2F%2Fwww.daramalan.act.edu.au%2F%3Fp%3D17613
DTSTAMP:20191206T051843Z
DTSTART:20191206T051044Z
DTEND:20191206T061044Z
ORGANIZER:Daramalan College
SUMMARY:Year 12 student sought for Olympic advice
URL;VALUE=URI:http://www.daramalan.act.edu.au/year-12-student-sought-for-o
 lympic-advice/
END:VEVENT
BEGIN:VEVENT
UID:http%3A%2F%2Fwww.daramalan.act.edu.au%2F%3Fp%3D17287
DTSTAMP:20191204T012431Z
DTSTART:20191204T012429Z
DTEND:20191204T022429Z
ORGANIZER:Daramalan College
SUMMARY:Scott Morrison seeks advice from Dara girls
URL;VALUE=URI:http://www.daramalan.act.edu.au/scott-morrison-seeks-advice-
 from-dara-girls/
END:VEVENT
BEGIN:VEVENT
UID:http%3A%2F%2Fwww.daramalan.act.edu.au%2F%3Fp%3D17194
DTSTAMP:20191023T023023Z
DTSTART:20191021T224508Z
DTEND:20191021T234508Z
ORGANIZER:Daramalan College
SUMMARY:Daramalan Maths teacher wins national award
URL;VALUE=URI:http://www.daramalan.act.edu.au/maths-teacher-wins-national-
 award/
END:VEVENT
BEGIN:VEVENT
UID:http%3A%2F%2Fwww.daramalan.act.edu.au%2F%3Fp%3D17085
DTSTAMP:20190923T034915Z
DTSTART:20190923T005649Z
DTEND:20190923T015649Z
ORGANIZER:Daramalan College
SUMMARY:2020 College Leaders announced
URL;VALUE=URI:http://www.daramalan.act.edu.au/2020-college-leaders-announc
 ed/
END:VEVENT
BEGIN:VEVENT
UID:http%3A%2F%2Fwww.daramalan.act.edu.au%2F%3Fp%3D16998
DTSTAMP:20190815T040225Z
DTSTART:20190815T035748Z
DTEND:20190815T045748Z
ORGANIZER:Daramalan College
SUMMARY:Canberra homeless get welcomed swags
URL;VALUE=URI:http://www.daramalan.act.edu.au/canberra-homeless-get-welcom
 ed-swags/
END:VEVENT
BEGIN:VEVENT
UID:http%3A%2F%2Fwww.daramalan.act.edu.au%2F%3Fp%3D16969
DTSTAMP:20190805T005453Z
DTSTART:20190805T005450Z
DTEND:20190805T015450Z
ORGANIZER:Daramalan College
SUMMARY:Congratulations Fr Harold Baker MSC
URL;VALUE=URI:http://www.daramalan.act.edu.au/congratulations-fr-harold-ba
 ker-msc/
END:VEVENT
BEGIN:VEVENT
UID:http%3A%2F%2Fwww.daramalan.act.edu.au%2F%3Fp%3D16834
DTSTAMP:20190627T051401Z
DTSTART:20190627T051359Z
DTEND:20190627T061359Z
ORGANIZER:Daramalan College
SUMMARY:Our own bridge champions
URL;VALUE=URI:http://www.daramalan.act.edu.au/our-own-bridge-champions/
END:VEVENT
BEGIN:VEVENT
UID:http%3A%2F%2Fwww.daramalan.act.edu.au%2F%3Fp%3D16832
DTSTAMP:20190812T005436Z
DTSTART:20190627T050519Z
DTEND:20190627T060519Z
ORGANIZER:Daramalan College
SUMMARY:Grandparents&#8217; Day 2019
URL;VALUE=URI:http://www.daramalan.act.edu.au/grandparents-day-2019/
END:VEVENT
BEGIN:VEVENT
UID:http%3A%2F%2Fwww.daramalan.act.edu.au%2F%3Fp%3D16736
DTSTAMP:20190603T045859Z
DTSTART:20190603T045828Z
DTEND:20190603T055828Z
ORGANIZER:Daramalan College
SUMMARY:There&#8217;s a Science to Dara talent
URL;VALUE=URI:http://www.daramalan.act.edu.au/theres-a-science-to-dara-tal
 ent/
END:VEVENT
BEGIN:VEVENT
UID:http%3A%2F%2Fwww.daramalan.act.edu.au%2F%3Fp%3D16734
DTSTAMP:20190603T045424Z
DTSTART:20190603T045422Z
DTEND:20190603T055422Z
ORGANIZER:Daramalan College
SUMMARY:Record broken by Dara Bands
URL;VALUE=URI:http://www.daramalan.act.edu.au/record-broken-by-dara-bands/
END:VEVENT
BEGIN:VEVENT
UID:http%3A%2F%2Fwww.daramalan.act.edu.au%2F%3Fp%3D16723
DTSTAMP:20190524T052234Z
DTSTART:20190524T052232Z
DTEND:20190524T062232Z
ORGANIZER:Daramalan College
SUMMARY:Daramalan sportsman chosen to represent Australia
URL;VALUE=URI:http://www.daramalan.act.edu.au/daramalan-sportsman-chosen-t
 o-represent-australia/
END:VEVENT
BEGIN:VEVENT
UID:http%3A%2F%2Fwww.daramalan.act.edu.au%2F%3Fp%3D16685
DTSTAMP:20190506T002124Z
DTSTART:20190506T002122Z
DTEND:20190506T012122Z
ORGANIZER:Daramalan College
SUMMARY:Rugby First XV start season
URL;VALUE=URI:http://www.daramalan.act.edu.au/rugby-first-xv-start-season/
END:VEVENT
BEGIN:VEVENT
UID:http%3A%2F%2Fwww.daramalan.act.edu.au%2F%3Fp%3D16562
DTSTAMP:20190405T025647Z
DTSTART:20190405T025645Z
DTEND:20190405T035645Z
ORGANIZER:Daramalan College
SUMMARY:Cross Country fever
URL;VALUE=URI:http://www.daramalan.act.edu.au/cross-country-fever/
END:VEVENT
BEGIN:VEVENT
UID:http%3A%2F%2Fwww.daramalan.act.edu.au%2F%3Fp%3D16418
DTSTAMP:20190322T033304Z
DTSTART:20190322T033301Z
DTEND:20190322T043301Z
ORGANIZER:Daramalan College
SUMMARY:Brave students get shaved
URL;VALUE=URI:http://www.daramalan.act.edu.au/brave-students-get-shaved/
END:VEVENT
BEGIN:VEVENT
UID:http%3A%2F%2Fwww.daramalan.act.edu.au%2F%3Fp%3D16206
DTSTAMP:20190524T045531Z
DTSTART:20190214T021241Z
DTEND:20190214T031241Z
ORGANIZER:Daramalan College
SUMMARY:2019 Opening Mass
URL;VALUE=URI:http://www.daramalan.act.edu.au/2019-opening-mass/
END:VEVENT
BEGIN:VEVENT
UID:http%3A%2F%2Fwww.daramalan.act.edu.au%2F%3Fp%3D15252
DTSTAMP:20181218T042114Z
DTSTART:20181218T042114Z
DTEND:20181218T052114Z
ORGANIZER:Daramalan College
SUMMARY:Award Winners announced
URL;VALUE=URI:http://www.daramalan.act.edu.au/award-winners-announced/
END:VEVENT
BEGIN:VEVENT
UID:http%3A%2F%2Fwww.daramalan.act.edu.au%2F%3Fp%3D15191
DTSTAMP:20181029T015013Z
DTSTART:20181029T015013Z
DTEND:20181029T025013Z
ORGANIZER:Daramalan College
SUMMARY:Congratulations to our Science Department
URL;VALUE=URI:http://www.daramalan.act.edu.au/congratulations-to-our-scien
 ce-department/
END:VEVENT
BEGIN:VEVENT
UID:http%3A%2F%2Fwww.daramalan.act.edu.au%2F%3Fp%3D15160
DTSTAMP:20181024T235328Z
DTSTART:20181022T010512Z
DTEND:20181022T020512Z
ORGANIZER:Daramalan College
SUMMARY:First women teachers return for Feast Day
URL;VALUE=URI:http://www.daramalan.act.edu.au/first-women-teachers-return-
 for-feast-day/
END:VEVENT
BEGIN:VEVENT
UID:http%3A%2F%2Fwww.daramalan.act.edu.au%2F%3Fp%3D15111
DTSTAMP:20180923T233550Z
DTSTART:20180921T060535Z
DTEND:20180921T070535Z
ORGANIZER:Daramalan College
SUMMARY:2019 College Leadership positions announced
URL;VALUE=URI:http://www.daramalan.act.edu.au/2019-leadership-positions-an
 nounced/
END:VEVENT
BEGIN:VEVENT
UID:http%3A%2F%2Fwww.daramalan.act.edu.au%2F%3Fp%3D15095
DTSTAMP:20180917T062505Z
DTSTART:20180917T062505Z
DTEND:20180917T072505Z
ORGANIZER:Daramalan College
SUMMARY:Trivia Night raises over $1000
URL;VALUE=URI:http://www.daramalan.act.edu.au/trivia-night-raises-over-100
 0/
END:VEVENT
BEGIN:VEVENT
UID:http%3A%2F%2Fwww.daramalan.act.edu.au%2F%3Fp%3D15088
DTSTAMP:20180917T061958Z
DTSTART:20180917T061840Z
DTEND:20180917T071840Z
ORGANIZER:Daramalan College
SUMMARY:Year 12 girl voted &#8220;ACT Vocational Student of the Year”
URL;VALUE=URI:http://www.daramalan.act.edu.au/year-12-girl-voted-act-vocat
 ional-student-of-the-year/
END:VEVENT
BEGIN:VEVENT
UID:http%3A%2F%2Fwww.daramalan.act.edu.au%2F%3Fp%3D15055
DTSTAMP:20180828T030222Z
DTSTART:20180828T030222Z
DTEND:20180828T040222Z
ORGANIZER:Daramalan College
SUMMARY:Congratulations Science students
URL;VALUE=URI:http://www.daramalan.act.edu.au/congratulations-science-stud
 ents/
END:VEVENT
BEGIN:VEVENT
UID:http%3A%2F%2Fwww.daramalan.act.edu.au%2F%3Fp%3D14939
DTSTAMP:20180801T052327Z
DTSTART:20180801T052327Z
DTEND:20180801T062327Z
ORGANIZER:Daramalan College
SUMMARY:Students selected for prestigious national Science Forum
URL;VALUE=URI:http://www.daramalan.act.edu.au/students-selected-for-presti
 gious-national-science-forum/
END:VEVENT
BEGIN:VEVENT
UID:http%3A%2F%2Fwww.daramalan.act.edu.au%2F%3Fp%3D14891
DTSTAMP:20180706T050727Z
DTSTART:20180706T044541Z
DTEND:20180706T054541Z
ORGANIZER:Daramalan College
SUMMARY:College girl chosen for ACT Rugby team
URL;VALUE=URI:http://www.daramalan.act.edu.au/college-girls-chosen-in-act-
 rugby-team/
END:VEVENT
BEGIN:VEVENT
UID:http%3A%2F%2Fwww.daramalan.act.edu.au%2F%3Fp%3D14885
DTSTAMP:20180706T042506Z
DTSTART:20180706T042506Z
DTEND:20180706T052506Z
ORGANIZER:Daramalan College
SUMMARY:Community Service in action
URL;VALUE=URI:http://www.daramalan.act.edu.au/community-service-in-action/
END:VEVENT
BEGIN:VEVENT
UID:http%3A%2F%2Fwww.daramalan.act.edu.au%2F%3Fp%3D14818
DTSTAMP:20180615T012225Z
DTSTART:20180615T012032Z
DTEND:20180615T022032Z
ORGANIZER:Daramalan College
SUMMARY:Daramalan student representing Australia in equestrian games
URL;VALUE=URI:http://www.daramalan.act.edu.au/daramalan-student-representi
 ng-australia-in-equestrian-games/
END:VEVENT
BEGIN:VEVENT
UID:http%3A%2F%2Fwww.daramalan.act.edu.au%2F%3Fp%3D14816
DTSTAMP:20180615T011802Z
DTSTART:20180615T011802Z
DTEND:20180615T021802Z
ORGANIZER:Daramalan College
SUMMARY:Dara connection to Socceroos in 2018 World Cup
URL;VALUE=URI:http://www.daramalan.act.edu.au/dara-connection-to-socceroos
 -in-2018-world-cup/
END:VEVENT
BEGIN:VEVENT
UID:http%3A%2F%2Fwww.daramalan.act.edu.au%2F%3Fp%3D14804
DTSTAMP:20180614T035651Z
DTSTART:20180614T035038Z
DTEND:20180614T045038Z
ORGANIZER:Daramalan College
SUMMARY:Daramalan teacher wins top leadership Award
URL;VALUE=URI:http://www.daramalan.act.edu.au/daramalan-teacher-awarded-to
 p-leadership-award/
END:VEVENT
BEGIN:VEVENT
UID:http%3A%2F%2Fwww.daramalan.act.edu.au%2F%3Fp%3D14790
DTSTAMP:20180605T023403Z
DTSTART:20180605T023403Z
DTEND:20180605T033403Z
ORGANIZER:Daramalan College
SUMMARY:Steve Biddulph’s farewell talk
URL;VALUE=URI:http://www.daramalan.act.edu.au/steve-biddulphs-farewell-tal
 k/
END:VEVENT
BEGIN:VEVENT
UID:http%3A%2F%2Fwww.daramalan.act.edu.au%2F%3Fp%3D14726
DTSTAMP:20180515T053123Z
DTSTART:20180515T052603Z
DTEND:20180515T062603Z
ORGANIZER:Daramalan College
SUMMARY:Minister visits student garden
URL;VALUE=URI:http://www.daramalan.act.edu.au/minister-visits-student-gard
 en/
END:VEVENT
BEGIN:VEVENT
UID:http%3A%2F%2Fwww.daramalan.act.edu.au%2F%3Fp%3D14721
DTSTAMP:20180525T020440Z
DTSTART:20180514T032312Z
DTEND:20180514T042312Z
ORGANIZER:Daramalan College
SUMMARY:2019 Enrolment information
URL;VALUE=URI:http://www.daramalan.act.edu.au/2019-enrolment-information/
END:VEVENT
BEGIN:VEVENT
UID:http%3A%2F%2Fwww.daramalan.act.edu.au%2F%3Fp%3D14719
DTSTAMP:20180514T032049Z
DTSTART:20180514T032049Z
DTEND:20180514T042049Z
ORGANIZER:Daramalan College
SUMMARY:Dara sports national gymnastics champ
URL;VALUE=URI:http://www.daramalan.act.edu.au/dara-sports-national-gymnast
 ics-champ/
END:VEVENT
BEGIN:VEVENT
UID:http%3A%2F%2Fwww.daramalan.act.edu.au%2F%3Fp%3D14717
DTSTAMP:20180514T031851Z
DTSTART:20180514T031851Z
DTEND:20180514T041851Z
ORGANIZER:Daramalan College
SUMMARY:Water polo news
URL;VALUE=URI:http://www.daramalan.act.edu.au/water-polo-news/
END:VEVENT
BEGIN:VEVENT
UID:http%3A%2F%2Fwww.daramalan.act.edu.au%2F%3Fp%3D14715
DTSTAMP:20180514T031652Z
DTSTART:20180514T031652Z
DTEND:20180514T041652Z
ORGANIZER:Daramalan College
SUMMARY:Year 12 girls selected for Aust team
URL;VALUE=URI:http://www.daramalan.act.edu.au/year-12-girls-selected-for-a
 ust-team/
END:VEVENT
BEGIN:VEVENT
UID:http%3A%2F%2Fwww.daramalan.act.edu.au%2F%3Fp%3D14713
DTSTAMP:20180514T031521Z
DTSTART:20180514T031521Z
DTEND:20180514T041521Z
ORGANIZER:Daramalan College
SUMMARY:Students selected for Rugby 7s
URL;VALUE=URI:http://www.daramalan.act.edu.au/students-selected-for-rugby-
 7s/
END:VEVENT
BEGIN:VEVENT
UID:http%3A%2F%2Fwww.daramalan.act.edu.au%2F%3Fp%3D13737
DTSTAMP:20171212T032957Z
DTSTART:20171212T032957Z
DTEND:20171212T042957Z
ORGANIZER:Daramalan College
SUMMARY:LitZine Edition 1
URL;VALUE=URI:http://www.daramalan.act.edu.au/litzine-edition-1/
END:VEVENT
BEGIN:VEVENT
UID:http%3A%2F%2Fwww.daramalan.act.edu.au%2F%3Fp%3D12349
DTSTAMP:20171204T035913Z
DTSTART:20171204T035913Z
DTEND:20171204T045913Z
ORGANIZER:Daramalan College
SUMMARY:Year 9 student chosen for ACT school cricket team
URL;VALUE=URI:http://www.daramalan.act.edu.au/year-9-student-chosen-for-ac
 t-school-cricket-team/
END:VEVENT
BEGIN:VEVENT
UID:http%3A%2F%2Fwww.daramalan.act.edu.au%2F%3Fp%3D12345
DTSTAMP:20180208T220947Z
DTSTART:20171204T034646Z
DTEND:20171204T044646Z
ORGANIZER:Daramalan College
SUMMARY:Science students finalists in national awards
URL;VALUE=URI:http://www.daramalan.act.edu.au/science-students-finalists-i
 n-national-awards/
END:VEVENT
BEGIN:VEVENT
UID:http%3A%2F%2Fwww.daramalan.act.edu.au%2F%3Fp%3D12328
DTSTAMP:20171029T230234Z
DTSTART:20171029T230234Z
DTEND:20171030T000234Z
ORGANIZER:Daramalan College
SUMMARY:Class Reunions
URL;VALUE=URI:http://www.daramalan.act.edu.au/class-reunions/
END:VEVENT
BEGIN:VEVENT
UID:http%3A%2F%2Fwww.daramalan.act.edu.au%2F%3Fp%3D12258
DTSTAMP:20170911T040951Z
DTSTART:20170911T040501Z
DTEND:20170911T050501Z
ORGANIZER:Daramalan College
SUMMARY:College Fund-raiser huge success
URL;VALUE=URI:http://www.daramalan.act.edu.au/college-fund-raiser-huge-suc
 cess/
END:VEVENT
BEGIN:VEVENT
UID:http%3A%2F%2Fwww.daramalan.act.edu.au%2F%3Fp%3D12103
DTSTAMP:20170724T235247Z
DTSTART:20170724T235247Z
DTEND:20170725T005247Z
ORGANIZER:Daramalan College
SUMMARY:Ex-student wins 2017 Helpmann Award
URL;VALUE=URI:http://www.daramalan.act.edu.au/ex-student-wins-2017-helpman
 n-award/
END:VEVENT
BEGIN:VEVENT
UID:http%3A%2F%2Fwww.daramalan.act.edu.au%2F%3Fp%3D12021
DTSTAMP:20170708T050826Z
DTSTART:20170707T023721Z
DTEND:20170707T033721Z
ORGANIZER:Daramalan College
SUMMARY:Dara rugby players win national cup
URL;VALUE=URI:http://www.daramalan.act.edu.au/dara-boy-in-australian-rugby
 -grand-final/
END:VEVENT
BEGIN:VEVENT
UID:http%3A%2F%2Fwww.daramalan.act.edu.au%2F%3Fp%3D11906
DTSTAMP:20170526T003118Z
DTSTART:20170526T003026Z
DTEND:20170526T013026Z
ORGANIZER:Daramalan College
SUMMARY:Daramalan Jazz Band wins Gold at Eisteddfod
URL;VALUE=URI:http://www.daramalan.act.edu.au/daramalan-jazz-band-wins-gol
 d-at-eisteddfod/
END:VEVENT
BEGIN:VEVENT
UID:http%3A%2F%2Fwww.daramalan.act.edu.au%2F%3Fp%3D11898
DTSTAMP:20170526T000318Z
DTSTART:20170526T000158Z
DTEND:20170526T010158Z
ORGANIZER:Daramalan College
SUMMARY:Year 7 student new Australian Champion
URL;VALUE=URI:http://www.daramalan.act.edu.au/11898-2/
END:VEVENT
END:VCALENDAR
